BEGIN:VCALENDAR
VERSION:2.0
PRODID:-//Desert Princess Country Club - ECPv6.15.18//NONSGML v1.0//EN
CALSCALE:GREGORIAN
METHOD:PUBLISH
X-WR-CALNAME:Desert Princess Country Club
X-ORIGINAL-URL:https://www.desertprincesscc.com
X-WR-CALDESC:Events for Desert Princess Country Club
REFRESH-INTERVAL;VALUE=DURATION:PT1H
X-Robots-Tag:noindex
X-PUBLISHED-TTL:PT1H
BEGIN:VTIMEZONE
TZID:America/Los_Angeles
BEGIN:DAYLIGHT
TZOFFSETFROM:-0800
TZOFFSETTO:-0700
TZNAME:PDT
DTSTART:20240310T100000
END:DAYLIGHT
BEGIN:STANDARD
TZOFFSETFROM:-0700
TZOFFSETTO:-0800
TZNAME:PST
DTSTART:20241103T090000
END:STANDARD
BEGIN:DAYLIGHT
TZOFFSETFROM:-0800
TZOFFSETTO:-0700
TZNAME:PDT
DTSTART:20250309T100000
END:DAYLIGHT
BEGIN:STANDARD
TZOFFSETFROM:-0700
TZOFFSETTO:-0800
TZNAME:PST
DTSTART:20251102T090000
END:STANDARD
BEGIN:DAYLIGHT
TZOFFSETFROM:-0800
TZOFFSETTO:-0700
TZNAME:PDT
DTSTART:20260308T100000
END:DAYLIGHT
BEGIN:STANDARD
TZOFFSETFROM:-0700
TZOFFSETTO:-0800
TZNAME:PST
DTSTART:20261101T090000
END:STANDARD
END:VTIMEZONE
BEGIN:VEVENT
DTSTART;TZID=America/Los_Angeles:20251217T170000
DTEND;TZID=America/Los_Angeles:20251217T193000
DTSTAMP:20260422T044402
CREATED:20251208T230749Z
LAST-MODIFIED:20251208T230749Z
UID:10000020-1765990800-1765999800@www.desertprincesscc.com
SUMMARY:Bingo Night At The Mountain View Grille
DESCRIPTION:  \nJoin us for an entertaining evening at the Mountain View Grille as we host our monthly Bingo Night! Enjoy great company\, exciting prizes\, and a relaxed atmosphere perfect for friends\, neighbors\, and families. Gather for a fun-filled night of friendly competition\, delicious food\, and refreshing drinks. Whether you’re a seasoned player or new to the game\, everyone is welcome to join in on the excitement. We look forward to seeing you there!
URL:https://www.desertprincesscc.com/event/bingo-night-at-the-mountain-view-grille/
END:VEVENT
END:VCALENDAR