BEGIN:VCALENDAR
VERSION:2.0
PRODID:-//Desert Princess Country Club - ECPv6.15.18//NONSGML v1.0//EN
CALSCALE:GREGORIAN
METHOD:PUBLISH
X-WR-CALNAME:Desert Princess Country Club
X-ORIGINAL-URL:https://www.desertprincesscc.com
X-WR-CALDESC:Events for Desert Princess Country Club
REFRESH-INTERVAL;VALUE=DURATION:PT1H
X-Robots-Tag:noindex
X-PUBLISHED-TTL:PT1H
BEGIN:VTIMEZONE
TZID:America/Los_Angeles
BEGIN:DAYLIGHT
TZOFFSETFROM:-0800
TZOFFSETTO:-0700
TZNAME:PDT
DTSTART:20240310T100000
END:DAYLIGHT
BEGIN:STANDARD
TZOFFSETFROM:-0700
TZOFFSETTO:-0800
TZNAME:PST
DTSTART:20241103T090000
END:STANDARD
BEGIN:DAYLIGHT
TZOFFSETFROM:-0800
TZOFFSETTO:-0700
TZNAME:PDT
DTSTART:20250309T100000
END:DAYLIGHT
BEGIN:STANDARD
TZOFFSETFROM:-0700
TZOFFSETTO:-0800
TZNAME:PST
DTSTART:20251102T090000
END:STANDARD
BEGIN:DAYLIGHT
TZOFFSETFROM:-0800
TZOFFSETTO:-0700
TZNAME:PDT
DTSTART:20260308T100000
END:DAYLIGHT
BEGIN:STANDARD
TZOFFSETFROM:-0700
TZOFFSETTO:-0800
TZNAME:PST
DTSTART:20261101T090000
END:STANDARD
END:VTIMEZONE
BEGIN:VEVENT
DTSTART;TZID=America/Los_Angeles:20251231T170000
DTEND;TZID=America/Los_Angeles:20251231T220000
DTSTAMP:20260421T061812
CREATED:20251209T173924Z
LAST-MODIFIED:20251209T173924Z
UID:10000023-1767200400-1767218400@www.desertprincesscc.com
SUMMARY:New Years Eve Black & White Ball - Mountain View Grille
DESCRIPTION:Enjoy a thoughtfully prepared dinner\, festive drinks\, and wonderful music as you gather in your favorite black and white attire. Together\, we’ll share in the excitement of the countdown and raise a toast to new beginnings\, bright moments\, and the year ahead. \nWe look forward to celebrating with you at The Mountain View Grille
URL:https://www.desertprincesscc.com/event/new-years-eve-black-white-ball-mountain-view-grille/
END:VEVENT
END:VCALENDAR