BEGIN:VCALENDAR
VERSION:2.0
PRODID:-//Desert Princess Country Club - ECPv6.15.18//NONSGML v1.0//EN
CALSCALE:GREGORIAN
METHOD:PUBLISH
X-ORIGINAL-URL:https://www.desertprincesscc.com
X-WR-CALDESC:Events for Desert Princess Country Club
REFRESH-INTERVAL;VALUE=DURATION:PT1H
X-Robots-Tag:noindex
X-PUBLISHED-TTL:PT1H
BEGIN:VTIMEZONE
TZID:America/Los_Angeles
BEGIN:DAYLIGHT
TZOFFSETFROM:-0800
TZOFFSETTO:-0700
TZNAME:PDT
DTSTART:20280312T100000
END:DAYLIGHT
BEGIN:STANDARD
TZOFFSETFROM:-0700
TZOFFSETTO:-0800
TZNAME:PST
DTSTART:20281105T090000
END:STANDARD
BEGIN:DAYLIGHT
TZOFFSETFROM:-0800
TZOFFSETTO:-0700
TZNAME:PDT
DTSTART:20290311T100000
END:DAYLIGHT
BEGIN:STANDARD
TZOFFSETFROM:-0700
TZOFFSETTO:-0800
TZNAME:PST
DTSTART:20291104T090000
END:STANDARD
BEGIN:DAYLIGHT
TZOFFSETFROM:-0800
TZOFFSETTO:-0700
TZNAME:PDT
DTSTART:20300310T100000
END:DAYLIGHT
BEGIN:STANDARD
TZOFFSETFROM:-0700
TZOFFSETTO:-0800
TZNAME:PST
DTSTART:20301103T090000
END:STANDARD
END:VTIMEZONE
BEGIN:VEVENT
DTSTART;TZID=America/Los_Angeles:20290219T080000
DTEND;TZID=America/Los_Angeles:20290219T120000
DTSTAMP:20260420T024956
CREATED:20260402T193530Z
LAST-MODIFIED:20260402T193530Z
UID:10000189-1866182400-1866196800@www.desertprincesscc.com
SUMMARY:Waffle Club Special
DESCRIPTION:Start your week on a sweet note with our Monday Waffle Special at the Mountain View Grille. Indulge in golden\, house-made Belgian waffles\, perfectly crisp on the outside and light and fluffy on the inside\, served warm with rich maple syrup and whipped butter.
URL:https://www.desertprincesscc.com/event/waffle-club-special/2029-02-19/
END:VEVENT
BEGIN:VEVENT
DTSTART;TZID=America/Los_Angeles:20290220T110000
DTEND;TZID=America/Los_Angeles:20290220T170000
DTSTAMP:20260420T024957
CREATED:20260402T211136Z
LAST-MODIFIED:20260402T211136Z
UID:10000450-1866279600-1866301200@www.desertprincesscc.com
SUMMARY:Taco Tuesday At The Mountain View Grille
DESCRIPTION:Turn your Tuesday into a fiesta at the Mountain View Grille with our flavorful Taco Tuesday celebration. Enjoy a delicious lineup of freshly prepared tacos\, featuring a variety of savory fillings—from perfectly seasoned carne asada and tender grilled chicken to fresh fish
URL:https://www.desertprincesscc.com/event/taco-tuesday-at-the-mountain-view-grille/2029-02-20/
END:VEVENT
BEGIN:VEVENT
DTSTART;TZID=America/Los_Angeles:20290226T080000
DTEND;TZID=America/Los_Angeles:20290226T120000
DTSTAMP:20260420T024957
CREATED:20260402T193530Z
LAST-MODIFIED:20260402T193530Z
UID:10000190-1866787200-1866801600@www.desertprincesscc.com
SUMMARY:Waffle Club Special
DESCRIPTION:Start your week on a sweet note with our Monday Waffle Special at the Mountain View Grille. Indulge in golden\, house-made Belgian waffles\, perfectly crisp on the outside and light and fluffy on the inside\, served warm with rich maple syrup and whipped butter.
URL:https://www.desertprincesscc.com/event/waffle-club-special/2029-02-26/
END:VEVENT
BEGIN:VEVENT
DTSTART;TZID=America/Los_Angeles:20290227T110000
DTEND;TZID=America/Los_Angeles:20290227T170000
DTSTAMP:20260420T024957
CREATED:20260402T211136Z
LAST-MODIFIED:20260402T211136Z
UID:10000451-1866884400-1866906000@www.desertprincesscc.com
SUMMARY:Taco Tuesday At The Mountain View Grille
DESCRIPTION:Turn your Tuesday into a fiesta at the Mountain View Grille with our flavorful Taco Tuesday celebration. Enjoy a delicious lineup of freshly prepared tacos\, featuring a variety of savory fillings—from perfectly seasoned carne asada and tender grilled chicken to fresh fish
URL:https://www.desertprincesscc.com/event/taco-tuesday-at-the-mountain-view-grille/2029-02-27/
END:VEVENT
BEGIN:VEVENT
DTSTART;TZID=America/Los_Angeles:20290305T080000
DTEND;TZID=America/Los_Angeles:20290305T120000
DTSTAMP:20260420T024957
CREATED:20260402T193530Z
LAST-MODIFIED:20260402T193530Z
UID:10000191-1867392000-1867406400@www.desertprincesscc.com
SUMMARY:Waffle Club Special
DESCRIPTION:Start your week on a sweet note with our Monday Waffle Special at the Mountain View Grille. Indulge in golden\, house-made Belgian waffles\, perfectly crisp on the outside and light and fluffy on the inside\, served warm with rich maple syrup and whipped butter.
URL:https://www.desertprincesscc.com/event/waffle-club-special/2029-03-05/
END:VEVENT
BEGIN:VEVENT
DTSTART;TZID=America/Los_Angeles:20290306T110000
DTEND;TZID=America/Los_Angeles:20290306T170000
DTSTAMP:20260420T024957
CREATED:20260402T211136Z
LAST-MODIFIED:20260402T211136Z
UID:10000452-1867489200-1867510800@www.desertprincesscc.com
SUMMARY:Taco Tuesday At The Mountain View Grille
DESCRIPTION:Turn your Tuesday into a fiesta at the Mountain View Grille with our flavorful Taco Tuesday celebration. Enjoy a delicious lineup of freshly prepared tacos\, featuring a variety of savory fillings—from perfectly seasoned carne asada and tender grilled chicken to fresh fish
URL:https://www.desertprincesscc.com/event/taco-tuesday-at-the-mountain-view-grille/2029-03-06/
END:VEVENT
BEGIN:VEVENT
DTSTART;TZID=America/Los_Angeles:20290312T080000
DTEND;TZID=America/Los_Angeles:20290312T120000
DTSTAMP:20260420T024957
CREATED:20260402T193530Z
LAST-MODIFIED:20260402T193530Z
UID:10000192-1867996800-1868011200@www.desertprincesscc.com
SUMMARY:Waffle Club Special
DESCRIPTION:Start your week on a sweet note with our Monday Waffle Special at the Mountain View Grille. Indulge in golden\, house-made Belgian waffles\, perfectly crisp on the outside and light and fluffy on the inside\, served warm with rich maple syrup and whipped butter.
URL:https://www.desertprincesscc.com/event/waffle-club-special/2029-03-12/
END:VEVENT
BEGIN:VEVENT
DTSTART;TZID=America/Los_Angeles:20290313T110000
DTEND;TZID=America/Los_Angeles:20290313T170000
DTSTAMP:20260420T024957
CREATED:20260402T211136Z
LAST-MODIFIED:20260402T211136Z
UID:10000453-1868094000-1868115600@www.desertprincesscc.com
SUMMARY:Taco Tuesday At The Mountain View Grille
DESCRIPTION:Turn your Tuesday into a fiesta at the Mountain View Grille with our flavorful Taco Tuesday celebration. Enjoy a delicious lineup of freshly prepared tacos\, featuring a variety of savory fillings—from perfectly seasoned carne asada and tender grilled chicken to fresh fish
URL:https://www.desertprincesscc.com/event/taco-tuesday-at-the-mountain-view-grille/2029-03-13/
END:VEVENT
BEGIN:VEVENT
DTSTART;TZID=America/Los_Angeles:20290319T080000
DTEND;TZID=America/Los_Angeles:20290319T120000
DTSTAMP:20260420T024957
CREATED:20260402T193530Z
LAST-MODIFIED:20260402T193530Z
UID:10000193-1868601600-1868616000@www.desertprincesscc.com
SUMMARY:Waffle Club Special
DESCRIPTION:Start your week on a sweet note with our Monday Waffle Special at the Mountain View Grille. Indulge in golden\, house-made Belgian waffles\, perfectly crisp on the outside and light and fluffy on the inside\, served warm with rich maple syrup and whipped butter.
URL:https://www.desertprincesscc.com/event/waffle-club-special/2029-03-19/
END:VEVENT
BEGIN:VEVENT
DTSTART;TZID=America/Los_Angeles:20290320T110000
DTEND;TZID=America/Los_Angeles:20290320T170000
DTSTAMP:20260420T024957
CREATED:20260402T211136Z
LAST-MODIFIED:20260402T211136Z
UID:10000454-1868698800-1868720400@www.desertprincesscc.com
SUMMARY:Taco Tuesday At The Mountain View Grille
DESCRIPTION:Turn your Tuesday into a fiesta at the Mountain View Grille with our flavorful Taco Tuesday celebration. Enjoy a delicious lineup of freshly prepared tacos\, featuring a variety of savory fillings—from perfectly seasoned carne asada and tender grilled chicken to fresh fish
URL:https://www.desertprincesscc.com/event/taco-tuesday-at-the-mountain-view-grille/2029-03-20/
END:VEVENT
BEGIN:VEVENT
DTSTART;TZID=America/Los_Angeles:20290326T080000
DTEND;TZID=America/Los_Angeles:20290326T120000
DTSTAMP:20260420T024957
CREATED:20260402T193530Z
LAST-MODIFIED:20260402T193530Z
UID:10000194-1869206400-1869220800@www.desertprincesscc.com
SUMMARY:Waffle Club Special
DESCRIPTION:Start your week on a sweet note with our Monday Waffle Special at the Mountain View Grille. Indulge in golden\, house-made Belgian waffles\, perfectly crisp on the outside and light and fluffy on the inside\, served warm with rich maple syrup and whipped butter.
URL:https://www.desertprincesscc.com/event/waffle-club-special/2029-03-26/
END:VEVENT
BEGIN:VEVENT
DTSTART;TZID=America/Los_Angeles:20290327T110000
DTEND;TZID=America/Los_Angeles:20290327T170000
DTSTAMP:20260420T024957
CREATED:20260402T211136Z
LAST-MODIFIED:20260402T211136Z
UID:10000455-1869303600-1869325200@www.desertprincesscc.com
SUMMARY:Taco Tuesday At The Mountain View Grille
DESCRIPTION:Turn your Tuesday into a fiesta at the Mountain View Grille with our flavorful Taco Tuesday celebration. Enjoy a delicious lineup of freshly prepared tacos\, featuring a variety of savory fillings—from perfectly seasoned carne asada and tender grilled chicken to fresh fish
URL:https://www.desertprincesscc.com/event/taco-tuesday-at-the-mountain-view-grille/2029-03-27/
END:VEVENT
BEGIN:VEVENT
DTSTART;TZID=America/Los_Angeles:20290402T080000
DTEND;TZID=America/Los_Angeles:20290402T120000
DTSTAMP:20260420T024957
CREATED:20260402T193530Z
LAST-MODIFIED:20260402T193530Z
UID:10000195-1869811200-1869825600@www.desertprincesscc.com
SUMMARY:Waffle Club Special
DESCRIPTION:Start your week on a sweet note with our Monday Waffle Special at the Mountain View Grille. Indulge in golden\, house-made Belgian waffles\, perfectly crisp on the outside and light and fluffy on the inside\, served warm with rich maple syrup and whipped butter.
URL:https://www.desertprincesscc.com/event/waffle-club-special/2029-04-02/
END:VEVENT
BEGIN:VEVENT
DTSTART;TZID=America/Los_Angeles:20290403T110000
DTEND;TZID=America/Los_Angeles:20290403T170000
DTSTAMP:20260420T024957
CREATED:20260402T211136Z
LAST-MODIFIED:20260402T211136Z
UID:10000456-1869908400-1869930000@www.desertprincesscc.com
SUMMARY:Taco Tuesday At The Mountain View Grille
DESCRIPTION:Turn your Tuesday into a fiesta at the Mountain View Grille with our flavorful Taco Tuesday celebration. Enjoy a delicious lineup of freshly prepared tacos\, featuring a variety of savory fillings—from perfectly seasoned carne asada and tender grilled chicken to fresh fish
URL:https://www.desertprincesscc.com/event/taco-tuesday-at-the-mountain-view-grille/2029-04-03/
END:VEVENT
BEGIN:VEVENT
DTSTART;TZID=America/Los_Angeles:20290409T080000
DTEND;TZID=America/Los_Angeles:20290409T120000
DTSTAMP:20260420T024957
CREATED:20260402T193530Z
LAST-MODIFIED:20260402T193530Z
UID:10000196-1870416000-1870430400@www.desertprincesscc.com
SUMMARY:Waffle Club Special
DESCRIPTION:Start your week on a sweet note with our Monday Waffle Special at the Mountain View Grille. Indulge in golden\, house-made Belgian waffles\, perfectly crisp on the outside and light and fluffy on the inside\, served warm with rich maple syrup and whipped butter.
URL:https://www.desertprincesscc.com/event/waffle-club-special/2029-04-09/
END:VEVENT
BEGIN:VEVENT
DTSTART;TZID=America/Los_Angeles:20290410T110000
DTEND;TZID=America/Los_Angeles:20290410T170000
DTSTAMP:20260420T024957
CREATED:20260402T211136Z
LAST-MODIFIED:20260402T211136Z
UID:10000457-1870513200-1870534800@www.desertprincesscc.com
SUMMARY:Taco Tuesday At The Mountain View Grille
DESCRIPTION:Turn your Tuesday into a fiesta at the Mountain View Grille with our flavorful Taco Tuesday celebration. Enjoy a delicious lineup of freshly prepared tacos\, featuring a variety of savory fillings—from perfectly seasoned carne asada and tender grilled chicken to fresh fish
URL:https://www.desertprincesscc.com/event/taco-tuesday-at-the-mountain-view-grille/2029-04-10/
END:VEVENT
BEGIN:VEVENT
DTSTART;TZID=America/Los_Angeles:20290416T080000
DTEND;TZID=America/Los_Angeles:20290416T120000
DTSTAMP:20260420T024957
CREATED:20260402T193530Z
LAST-MODIFIED:20260402T193530Z
UID:10000197-1871020800-1871035200@www.desertprincesscc.com
SUMMARY:Waffle Club Special
DESCRIPTION:Start your week on a sweet note with our Monday Waffle Special at the Mountain View Grille. Indulge in golden\, house-made Belgian waffles\, perfectly crisp on the outside and light and fluffy on the inside\, served warm with rich maple syrup and whipped butter.
URL:https://www.desertprincesscc.com/event/waffle-club-special/2029-04-16/
END:VEVENT
BEGIN:VEVENT
DTSTART;TZID=America/Los_Angeles:20290417T110000
DTEND;TZID=America/Los_Angeles:20290417T170000
DTSTAMP:20260420T024957
CREATED:20260402T211136Z
LAST-MODIFIED:20260402T211136Z
UID:10000458-1871118000-1871139600@www.desertprincesscc.com
SUMMARY:Taco Tuesday At The Mountain View Grille
DESCRIPTION:Turn your Tuesday into a fiesta at the Mountain View Grille with our flavorful Taco Tuesday celebration. Enjoy a delicious lineup of freshly prepared tacos\, featuring a variety of savory fillings—from perfectly seasoned carne asada and tender grilled chicken to fresh fish
URL:https://www.desertprincesscc.com/event/taco-tuesday-at-the-mountain-view-grille/2029-04-17/
END:VEVENT
BEGIN:VEVENT
DTSTART;TZID=America/Los_Angeles:20290423T080000
DTEND;TZID=America/Los_Angeles:20290423T120000
DTSTAMP:20260420T024957
CREATED:20260402T193530Z
LAST-MODIFIED:20260402T193530Z
UID:10000198-1871625600-1871640000@www.desertprincesscc.com
SUMMARY:Waffle Club Special
DESCRIPTION:Start your week on a sweet note with our Monday Waffle Special at the Mountain View Grille. Indulge in golden\, house-made Belgian waffles\, perfectly crisp on the outside and light and fluffy on the inside\, served warm with rich maple syrup and whipped butter.
URL:https://www.desertprincesscc.com/event/waffle-club-special/2029-04-23/
END:VEVENT
BEGIN:VEVENT
DTSTART;TZID=America/Los_Angeles:20290424T110000
DTEND;TZID=America/Los_Angeles:20290424T170000
DTSTAMP:20260420T024957
CREATED:20260402T211136Z
LAST-MODIFIED:20260402T211136Z
UID:10000459-1871722800-1871744400@www.desertprincesscc.com
SUMMARY:Taco Tuesday At The Mountain View Grille
DESCRIPTION:Turn your Tuesday into a fiesta at the Mountain View Grille with our flavorful Taco Tuesday celebration. Enjoy a delicious lineup of freshly prepared tacos\, featuring a variety of savory fillings—from perfectly seasoned carne asada and tender grilled chicken to fresh fish
URL:https://www.desertprincesscc.com/event/taco-tuesday-at-the-mountain-view-grille/2029-04-24/
END:VEVENT
BEGIN:VEVENT
DTSTART;TZID=America/Los_Angeles:20290430T080000
DTEND;TZID=America/Los_Angeles:20290430T120000
DTSTAMP:20260420T024957
CREATED:20260402T193530Z
LAST-MODIFIED:20260402T193530Z
UID:10000199-1872230400-1872244800@www.desertprincesscc.com
SUMMARY:Waffle Club Special
DESCRIPTION:Start your week on a sweet note with our Monday Waffle Special at the Mountain View Grille. Indulge in golden\, house-made Belgian waffles\, perfectly crisp on the outside and light and fluffy on the inside\, served warm with rich maple syrup and whipped butter.
URL:https://www.desertprincesscc.com/event/waffle-club-special/2029-04-30/
END:VEVENT
BEGIN:VEVENT
DTSTART;TZID=America/Los_Angeles:20290501T110000
DTEND;TZID=America/Los_Angeles:20290501T170000
DTSTAMP:20260420T024957
CREATED:20260402T211136Z
LAST-MODIFIED:20260402T211136Z
UID:10000460-1872327600-1872349200@www.desertprincesscc.com
SUMMARY:Taco Tuesday At The Mountain View Grille
DESCRIPTION:Turn your Tuesday into a fiesta at the Mountain View Grille with our flavorful Taco Tuesday celebration. Enjoy a delicious lineup of freshly prepared tacos\, featuring a variety of savory fillings—from perfectly seasoned carne asada and tender grilled chicken to fresh fish
URL:https://www.desertprincesscc.com/event/taco-tuesday-at-the-mountain-view-grille/2029-05-01/
END:VEVENT
BEGIN:VEVENT
DTSTART;TZID=America/Los_Angeles:20290507T080000
DTEND;TZID=America/Los_Angeles:20290507T120000
DTSTAMP:20260420T024957
CREATED:20260402T193530Z
LAST-MODIFIED:20260402T193530Z
UID:10000200-1872835200-1872849600@www.desertprincesscc.com
SUMMARY:Waffle Club Special
DESCRIPTION:Start your week on a sweet note with our Monday Waffle Special at the Mountain View Grille. Indulge in golden\, house-made Belgian waffles\, perfectly crisp on the outside and light and fluffy on the inside\, served warm with rich maple syrup and whipped butter.
URL:https://www.desertprincesscc.com/event/waffle-club-special/2029-05-07/
END:VEVENT
BEGIN:VEVENT
DTSTART;TZID=America/Los_Angeles:20290508T110000
DTEND;TZID=America/Los_Angeles:20290508T170000
DTSTAMP:20260420T024957
CREATED:20260402T211136Z
LAST-MODIFIED:20260402T211136Z
UID:10000461-1872932400-1872954000@www.desertprincesscc.com
SUMMARY:Taco Tuesday At The Mountain View Grille
DESCRIPTION:Turn your Tuesday into a fiesta at the Mountain View Grille with our flavorful Taco Tuesday celebration. Enjoy a delicious lineup of freshly prepared tacos\, featuring a variety of savory fillings—from perfectly seasoned carne asada and tender grilled chicken to fresh fish
URL:https://www.desertprincesscc.com/event/taco-tuesday-at-the-mountain-view-grille/2029-05-08/
END:VEVENT
BEGIN:VEVENT
DTSTART;TZID=America/Los_Angeles:20290514T080000
DTEND;TZID=America/Los_Angeles:20290514T120000
DTSTAMP:20260420T024957
CREATED:20260402T193530Z
LAST-MODIFIED:20260402T193530Z
UID:10000201-1873440000-1873454400@www.desertprincesscc.com
SUMMARY:Waffle Club Special
DESCRIPTION:Start your week on a sweet note with our Monday Waffle Special at the Mountain View Grille. Indulge in golden\, house-made Belgian waffles\, perfectly crisp on the outside and light and fluffy on the inside\, served warm with rich maple syrup and whipped butter.
URL:https://www.desertprincesscc.com/event/waffle-club-special/2029-05-14/
END:VEVENT
BEGIN:VEVENT
DTSTART;TZID=America/Los_Angeles:20290515T110000
DTEND;TZID=America/Los_Angeles:20290515T170000
DTSTAMP:20260420T024957
CREATED:20260402T211136Z
LAST-MODIFIED:20260402T211136Z
UID:10000462-1873537200-1873558800@www.desertprincesscc.com
SUMMARY:Taco Tuesday At The Mountain View Grille
DESCRIPTION:Turn your Tuesday into a fiesta at the Mountain View Grille with our flavorful Taco Tuesday celebration. Enjoy a delicious lineup of freshly prepared tacos\, featuring a variety of savory fillings—from perfectly seasoned carne asada and tender grilled chicken to fresh fish
URL:https://www.desertprincesscc.com/event/taco-tuesday-at-the-mountain-view-grille/2029-05-15/
END:VEVENT
BEGIN:VEVENT
DTSTART;TZID=America/Los_Angeles:20290521T080000
DTEND;TZID=America/Los_Angeles:20290521T120000
DTSTAMP:20260420T024957
CREATED:20260402T193530Z
LAST-MODIFIED:20260402T193530Z
UID:10000202-1874044800-1874059200@www.desertprincesscc.com
SUMMARY:Waffle Club Special
DESCRIPTION:Start your week on a sweet note with our Monday Waffle Special at the Mountain View Grille. Indulge in golden\, house-made Belgian waffles\, perfectly crisp on the outside and light and fluffy on the inside\, served warm with rich maple syrup and whipped butter.
URL:https://www.desertprincesscc.com/event/waffle-club-special/2029-05-21/
END:VEVENT
BEGIN:VEVENT
DTSTART;TZID=America/Los_Angeles:20290522T110000
DTEND;TZID=America/Los_Angeles:20290522T170000
DTSTAMP:20260420T024957
CREATED:20260402T211136Z
LAST-MODIFIED:20260402T211136Z
UID:10000463-1874142000-1874163600@www.desertprincesscc.com
SUMMARY:Taco Tuesday At The Mountain View Grille
DESCRIPTION:Turn your Tuesday into a fiesta at the Mountain View Grille with our flavorful Taco Tuesday celebration. Enjoy a delicious lineup of freshly prepared tacos\, featuring a variety of savory fillings—from perfectly seasoned carne asada and tender grilled chicken to fresh fish
URL:https://www.desertprincesscc.com/event/taco-tuesday-at-the-mountain-view-grille/2029-05-22/
END:VEVENT
BEGIN:VEVENT
DTSTART;TZID=America/Los_Angeles:20290528T080000
DTEND;TZID=America/Los_Angeles:20290528T120000
DTSTAMP:20260420T024957
CREATED:20260402T193530Z
LAST-MODIFIED:20260402T193530Z
UID:10000203-1874649600-1874664000@www.desertprincesscc.com
SUMMARY:Waffle Club Special
DESCRIPTION:Start your week on a sweet note with our Monday Waffle Special at the Mountain View Grille. Indulge in golden\, house-made Belgian waffles\, perfectly crisp on the outside and light and fluffy on the inside\, served warm with rich maple syrup and whipped butter.
URL:https://www.desertprincesscc.com/event/waffle-club-special/2029-05-28/
END:VEVENT
BEGIN:VEVENT
DTSTART;TZID=America/Los_Angeles:20290529T110000
DTEND;TZID=America/Los_Angeles:20290529T170000
DTSTAMP:20260420T024957
CREATED:20260402T211136Z
LAST-MODIFIED:20260402T211136Z
UID:10000464-1874746800-1874768400@www.desertprincesscc.com
SUMMARY:Taco Tuesday At The Mountain View Grille
DESCRIPTION:Turn your Tuesday into a fiesta at the Mountain View Grille with our flavorful Taco Tuesday celebration. Enjoy a delicious lineup of freshly prepared tacos\, featuring a variety of savory fillings—from perfectly seasoned carne asada and tender grilled chicken to fresh fish
URL:https://www.desertprincesscc.com/event/taco-tuesday-at-the-mountain-view-grille/2029-05-29/
END:VEVENT
END:VCALENDAR