BEGIN:VCALENDAR
VERSION:2.0
PRODID:-//Desert Princess Country Club - ECPv6.15.18//NONSGML v1.0//EN
CALSCALE:GREGORIAN
METHOD:PUBLISH
X-ORIGINAL-URL:https://www.desertprincesscc.com
X-WR-CALDESC:Events for Desert Princess Country Club
REFRESH-INTERVAL;VALUE=DURATION:PT1H
X-Robots-Tag:noindex
X-PUBLISHED-TTL:PT1H
BEGIN:VTIMEZONE
TZID:America/Los_Angeles
BEGIN:DAYLIGHT
TZOFFSETFROM:-0800
TZOFFSETTO:-0700
TZNAME:PDT
DTSTART:20280312T100000
END:DAYLIGHT
BEGIN:STANDARD
TZOFFSETFROM:-0700
TZOFFSETTO:-0800
TZNAME:PST
DTSTART:20281105T090000
END:STANDARD
BEGIN:DAYLIGHT
TZOFFSETFROM:-0800
TZOFFSETTO:-0700
TZNAME:PDT
DTSTART:20290311T100000
END:DAYLIGHT
BEGIN:STANDARD
TZOFFSETFROM:-0700
TZOFFSETTO:-0800
TZNAME:PST
DTSTART:20291104T090000
END:STANDARD
BEGIN:DAYLIGHT
TZOFFSETFROM:-0800
TZOFFSETTO:-0700
TZNAME:PDT
DTSTART:20300310T100000
END:DAYLIGHT
BEGIN:STANDARD
TZOFFSETFROM:-0700
TZOFFSETTO:-0800
TZNAME:PST
DTSTART:20301103T090000
END:STANDARD
END:VTIMEZONE
BEGIN:VEVENT
DTSTART;TZID=America/Los_Angeles:20290710T110000
DTEND;TZID=America/Los_Angeles:20290710T170000
DTSTAMP:20260421T183220
CREATED:20260402T211136Z
LAST-MODIFIED:20260402T211136Z
UID:10000470-1878375600-1878397200@www.desertprincesscc.com
SUMMARY:Taco Tuesday At The Mountain View Grille
DESCRIPTION:Turn your Tuesday into a fiesta at the Mountain View Grille with our flavorful Taco Tuesday celebration. Enjoy a delicious lineup of freshly prepared tacos\, featuring a variety of savory fillings—from perfectly seasoned carne asada and tender grilled chicken to fresh fish
URL:https://www.desertprincesscc.com/event/taco-tuesday-at-the-mountain-view-grille/2029-07-10/
END:VEVENT
BEGIN:VEVENT
DTSTART;TZID=America/Los_Angeles:20290716T080000
DTEND;TZID=America/Los_Angeles:20290716T120000
DTSTAMP:20260421T183220
CREATED:20260402T193530Z
LAST-MODIFIED:20260402T193530Z
UID:10000210-1878883200-1878897600@www.desertprincesscc.com
SUMMARY:Waffle Club Special
DESCRIPTION:Start your week on a sweet note with our Monday Waffle Special at the Mountain View Grille. Indulge in golden\, house-made Belgian waffles\, perfectly crisp on the outside and light and fluffy on the inside\, served warm with rich maple syrup and whipped butter.
URL:https://www.desertprincesscc.com/event/waffle-club-special/2029-07-16/
END:VEVENT
BEGIN:VEVENT
DTSTART;TZID=America/Los_Angeles:20290717T110000
DTEND;TZID=America/Los_Angeles:20290717T170000
DTSTAMP:20260421T183220
CREATED:20260402T211136Z
LAST-MODIFIED:20260402T211136Z
UID:10000471-1878980400-1879002000@www.desertprincesscc.com
SUMMARY:Taco Tuesday At The Mountain View Grille
DESCRIPTION:Turn your Tuesday into a fiesta at the Mountain View Grille with our flavorful Taco Tuesday celebration. Enjoy a delicious lineup of freshly prepared tacos\, featuring a variety of savory fillings—from perfectly seasoned carne asada and tender grilled chicken to fresh fish
URL:https://www.desertprincesscc.com/event/taco-tuesday-at-the-mountain-view-grille/2029-07-17/
END:VEVENT
BEGIN:VEVENT
DTSTART;TZID=America/Los_Angeles:20290723T080000
DTEND;TZID=America/Los_Angeles:20290723T120000
DTSTAMP:20260421T183220
CREATED:20260402T193530Z
LAST-MODIFIED:20260402T193530Z
UID:10000211-1879488000-1879502400@www.desertprincesscc.com
SUMMARY:Waffle Club Special
DESCRIPTION:Start your week on a sweet note with our Monday Waffle Special at the Mountain View Grille. Indulge in golden\, house-made Belgian waffles\, perfectly crisp on the outside and light and fluffy on the inside\, served warm with rich maple syrup and whipped butter.
URL:https://www.desertprincesscc.com/event/waffle-club-special/2029-07-23/
END:VEVENT
BEGIN:VEVENT
DTSTART;TZID=America/Los_Angeles:20290724T110000
DTEND;TZID=America/Los_Angeles:20290724T170000
DTSTAMP:20260421T183220
CREATED:20260402T211136Z
LAST-MODIFIED:20260402T211136Z
UID:10000472-1879585200-1879606800@www.desertprincesscc.com
SUMMARY:Taco Tuesday At The Mountain View Grille
DESCRIPTION:Turn your Tuesday into a fiesta at the Mountain View Grille with our flavorful Taco Tuesday celebration. Enjoy a delicious lineup of freshly prepared tacos\, featuring a variety of savory fillings—from perfectly seasoned carne asada and tender grilled chicken to fresh fish
URL:https://www.desertprincesscc.com/event/taco-tuesday-at-the-mountain-view-grille/2029-07-24/
END:VEVENT
BEGIN:VEVENT
DTSTART;TZID=America/Los_Angeles:20290730T080000
DTEND;TZID=America/Los_Angeles:20290730T120000
DTSTAMP:20260421T183220
CREATED:20260402T193530Z
LAST-MODIFIED:20260402T193530Z
UID:10000212-1880092800-1880107200@www.desertprincesscc.com
SUMMARY:Waffle Club Special
DESCRIPTION:Start your week on a sweet note with our Monday Waffle Special at the Mountain View Grille. Indulge in golden\, house-made Belgian waffles\, perfectly crisp on the outside and light and fluffy on the inside\, served warm with rich maple syrup and whipped butter.
URL:https://www.desertprincesscc.com/event/waffle-club-special/2029-07-30/
END:VEVENT
BEGIN:VEVENT
DTSTART;TZID=America/Los_Angeles:20290731T110000
DTEND;TZID=America/Los_Angeles:20290731T170000
DTSTAMP:20260421T183220
CREATED:20260402T211136Z
LAST-MODIFIED:20260402T211136Z
UID:10000473-1880190000-1880211600@www.desertprincesscc.com
SUMMARY:Taco Tuesday At The Mountain View Grille
DESCRIPTION:Turn your Tuesday into a fiesta at the Mountain View Grille with our flavorful Taco Tuesday celebration. Enjoy a delicious lineup of freshly prepared tacos\, featuring a variety of savory fillings—from perfectly seasoned carne asada and tender grilled chicken to fresh fish
URL:https://www.desertprincesscc.com/event/taco-tuesday-at-the-mountain-view-grille/2029-07-31/
END:VEVENT
BEGIN:VEVENT
DTSTART;TZID=America/Los_Angeles:20290806T080000
DTEND;TZID=America/Los_Angeles:20290806T120000
DTSTAMP:20260421T183220
CREATED:20260402T193530Z
LAST-MODIFIED:20260402T193530Z
UID:10000213-1880697600-1880712000@www.desertprincesscc.com
SUMMARY:Waffle Club Special
DESCRIPTION:Start your week on a sweet note with our Monday Waffle Special at the Mountain View Grille. Indulge in golden\, house-made Belgian waffles\, perfectly crisp on the outside and light and fluffy on the inside\, served warm with rich maple syrup and whipped butter.
URL:https://www.desertprincesscc.com/event/waffle-club-special/2029-08-06/
END:VEVENT
BEGIN:VEVENT
DTSTART;TZID=America/Los_Angeles:20290807T110000
DTEND;TZID=America/Los_Angeles:20290807T170000
DTSTAMP:20260421T183220
CREATED:20260402T211136Z
LAST-MODIFIED:20260402T211136Z
UID:10000474-1880794800-1880816400@www.desertprincesscc.com
SUMMARY:Taco Tuesday At The Mountain View Grille
DESCRIPTION:Turn your Tuesday into a fiesta at the Mountain View Grille with our flavorful Taco Tuesday celebration. Enjoy a delicious lineup of freshly prepared tacos\, featuring a variety of savory fillings—from perfectly seasoned carne asada and tender grilled chicken to fresh fish
URL:https://www.desertprincesscc.com/event/taco-tuesday-at-the-mountain-view-grille/2029-08-07/
END:VEVENT
BEGIN:VEVENT
DTSTART;TZID=America/Los_Angeles:20290813T080000
DTEND;TZID=America/Los_Angeles:20290813T120000
DTSTAMP:20260421T183220
CREATED:20260402T193530Z
LAST-MODIFIED:20260402T193530Z
UID:10000214-1881302400-1881316800@www.desertprincesscc.com
SUMMARY:Waffle Club Special
DESCRIPTION:Start your week on a sweet note with our Monday Waffle Special at the Mountain View Grille. Indulge in golden\, house-made Belgian waffles\, perfectly crisp on the outside and light and fluffy on the inside\, served warm with rich maple syrup and whipped butter.
URL:https://www.desertprincesscc.com/event/waffle-club-special/2029-08-13/
END:VEVENT
BEGIN:VEVENT
DTSTART;TZID=America/Los_Angeles:20290814T110000
DTEND;TZID=America/Los_Angeles:20290814T170000
DTSTAMP:20260421T183220
CREATED:20260402T211136Z
LAST-MODIFIED:20260402T211136Z
UID:10000475-1881399600-1881421200@www.desertprincesscc.com
SUMMARY:Taco Tuesday At The Mountain View Grille
DESCRIPTION:Turn your Tuesday into a fiesta at the Mountain View Grille with our flavorful Taco Tuesday celebration. Enjoy a delicious lineup of freshly prepared tacos\, featuring a variety of savory fillings—from perfectly seasoned carne asada and tender grilled chicken to fresh fish
URL:https://www.desertprincesscc.com/event/taco-tuesday-at-the-mountain-view-grille/2029-08-14/
END:VEVENT
BEGIN:VEVENT
DTSTART;TZID=America/Los_Angeles:20290820T080000
DTEND;TZID=America/Los_Angeles:20290820T120000
DTSTAMP:20260421T183220
CREATED:20260402T193530Z
LAST-MODIFIED:20260402T193530Z
UID:10000215-1881907200-1881921600@www.desertprincesscc.com
SUMMARY:Waffle Club Special
DESCRIPTION:Start your week on a sweet note with our Monday Waffle Special at the Mountain View Grille. Indulge in golden\, house-made Belgian waffles\, perfectly crisp on the outside and light and fluffy on the inside\, served warm with rich maple syrup and whipped butter.
URL:https://www.desertprincesscc.com/event/waffle-club-special/2029-08-20/
END:VEVENT
BEGIN:VEVENT
DTSTART;TZID=America/Los_Angeles:20290821T110000
DTEND;TZID=America/Los_Angeles:20290821T170000
DTSTAMP:20260421T183220
CREATED:20260402T211136Z
LAST-MODIFIED:20260402T211136Z
UID:10000476-1882004400-1882026000@www.desertprincesscc.com
SUMMARY:Taco Tuesday At The Mountain View Grille
DESCRIPTION:Turn your Tuesday into a fiesta at the Mountain View Grille with our flavorful Taco Tuesday celebration. Enjoy a delicious lineup of freshly prepared tacos\, featuring a variety of savory fillings—from perfectly seasoned carne asada and tender grilled chicken to fresh fish
URL:https://www.desertprincesscc.com/event/taco-tuesday-at-the-mountain-view-grille/2029-08-21/
END:VEVENT
BEGIN:VEVENT
DTSTART;TZID=America/Los_Angeles:20290827T080000
DTEND;TZID=America/Los_Angeles:20290827T120000
DTSTAMP:20260421T183220
CREATED:20260402T193530Z
LAST-MODIFIED:20260402T193530Z
UID:10000216-1882512000-1882526400@www.desertprincesscc.com
SUMMARY:Waffle Club Special
DESCRIPTION:Start your week on a sweet note with our Monday Waffle Special at the Mountain View Grille. Indulge in golden\, house-made Belgian waffles\, perfectly crisp on the outside and light and fluffy on the inside\, served warm with rich maple syrup and whipped butter.
URL:https://www.desertprincesscc.com/event/waffle-club-special/2029-08-27/
END:VEVENT
BEGIN:VEVENT
DTSTART;TZID=America/Los_Angeles:20290828T110000
DTEND;TZID=America/Los_Angeles:20290828T170000
DTSTAMP:20260421T183220
CREATED:20260402T211136Z
LAST-MODIFIED:20260402T211136Z
UID:10000477-1882609200-1882630800@www.desertprincesscc.com
SUMMARY:Taco Tuesday At The Mountain View Grille
DESCRIPTION:Turn your Tuesday into a fiesta at the Mountain View Grille with our flavorful Taco Tuesday celebration. Enjoy a delicious lineup of freshly prepared tacos\, featuring a variety of savory fillings—from perfectly seasoned carne asada and tender grilled chicken to fresh fish
URL:https://www.desertprincesscc.com/event/taco-tuesday-at-the-mountain-view-grille/2029-08-28/
END:VEVENT
BEGIN:VEVENT
DTSTART;TZID=America/Los_Angeles:20290903T080000
DTEND;TZID=America/Los_Angeles:20290903T120000
DTSTAMP:20260421T183220
CREATED:20260402T193530Z
LAST-MODIFIED:20260402T193530Z
UID:10000217-1883116800-1883131200@www.desertprincesscc.com
SUMMARY:Waffle Club Special
DESCRIPTION:Start your week on a sweet note with our Monday Waffle Special at the Mountain View Grille. Indulge in golden\, house-made Belgian waffles\, perfectly crisp on the outside and light and fluffy on the inside\, served warm with rich maple syrup and whipped butter.
URL:https://www.desertprincesscc.com/event/waffle-club-special/2029-09-03/
END:VEVENT
BEGIN:VEVENT
DTSTART;TZID=America/Los_Angeles:20290904T110000
DTEND;TZID=America/Los_Angeles:20290904T170000
DTSTAMP:20260421T183221
CREATED:20260402T211136Z
LAST-MODIFIED:20260402T211136Z
UID:10000478-1883214000-1883235600@www.desertprincesscc.com
SUMMARY:Taco Tuesday At The Mountain View Grille
DESCRIPTION:Turn your Tuesday into a fiesta at the Mountain View Grille with our flavorful Taco Tuesday celebration. Enjoy a delicious lineup of freshly prepared tacos\, featuring a variety of savory fillings—from perfectly seasoned carne asada and tender grilled chicken to fresh fish
URL:https://www.desertprincesscc.com/event/taco-tuesday-at-the-mountain-view-grille/2029-09-04/
END:VEVENT
BEGIN:VEVENT
DTSTART;TZID=America/Los_Angeles:20290910T080000
DTEND;TZID=America/Los_Angeles:20290910T120000
DTSTAMP:20260421T183221
CREATED:20260402T193530Z
LAST-MODIFIED:20260402T193530Z
UID:10000218-1883721600-1883736000@www.desertprincesscc.com
SUMMARY:Waffle Club Special
DESCRIPTION:Start your week on a sweet note with our Monday Waffle Special at the Mountain View Grille. Indulge in golden\, house-made Belgian waffles\, perfectly crisp on the outside and light and fluffy on the inside\, served warm with rich maple syrup and whipped butter.
URL:https://www.desertprincesscc.com/event/waffle-club-special/2029-09-10/
END:VEVENT
BEGIN:VEVENT
DTSTART;TZID=America/Los_Angeles:20290911T110000
DTEND;TZID=America/Los_Angeles:20290911T170000
DTSTAMP:20260421T183221
CREATED:20260402T211136Z
LAST-MODIFIED:20260402T211136Z
UID:10000479-1883818800-1883840400@www.desertprincesscc.com
SUMMARY:Taco Tuesday At The Mountain View Grille
DESCRIPTION:Turn your Tuesday into a fiesta at the Mountain View Grille with our flavorful Taco Tuesday celebration. Enjoy a delicious lineup of freshly prepared tacos\, featuring a variety of savory fillings—from perfectly seasoned carne asada and tender grilled chicken to fresh fish
URL:https://www.desertprincesscc.com/event/taco-tuesday-at-the-mountain-view-grille/2029-09-11/
END:VEVENT
BEGIN:VEVENT
DTSTART;TZID=America/Los_Angeles:20290917T080000
DTEND;TZID=America/Los_Angeles:20290917T120000
DTSTAMP:20260421T183221
CREATED:20260402T193530Z
LAST-MODIFIED:20260402T193530Z
UID:10000219-1884326400-1884340800@www.desertprincesscc.com
SUMMARY:Waffle Club Special
DESCRIPTION:Start your week on a sweet note with our Monday Waffle Special at the Mountain View Grille. Indulge in golden\, house-made Belgian waffles\, perfectly crisp on the outside and light and fluffy on the inside\, served warm with rich maple syrup and whipped butter.
URL:https://www.desertprincesscc.com/event/waffle-club-special/2029-09-17/
END:VEVENT
BEGIN:VEVENT
DTSTART;TZID=America/Los_Angeles:20290918T110000
DTEND;TZID=America/Los_Angeles:20290918T170000
DTSTAMP:20260421T183221
CREATED:20260402T211136Z
LAST-MODIFIED:20260402T211136Z
UID:10000480-1884423600-1884445200@www.desertprincesscc.com
SUMMARY:Taco Tuesday At The Mountain View Grille
DESCRIPTION:Turn your Tuesday into a fiesta at the Mountain View Grille with our flavorful Taco Tuesday celebration. Enjoy a delicious lineup of freshly prepared tacos\, featuring a variety of savory fillings—from perfectly seasoned carne asada and tender grilled chicken to fresh fish
URL:https://www.desertprincesscc.com/event/taco-tuesday-at-the-mountain-view-grille/2029-09-18/
END:VEVENT
BEGIN:VEVENT
DTSTART;TZID=America/Los_Angeles:20290924T080000
DTEND;TZID=America/Los_Angeles:20290924T120000
DTSTAMP:20260421T183221
CREATED:20260402T193530Z
LAST-MODIFIED:20260402T193530Z
UID:10000220-1884931200-1884945600@www.desertprincesscc.com
SUMMARY:Waffle Club Special
DESCRIPTION:Start your week on a sweet note with our Monday Waffle Special at the Mountain View Grille. Indulge in golden\, house-made Belgian waffles\, perfectly crisp on the outside and light and fluffy on the inside\, served warm with rich maple syrup and whipped butter.
URL:https://www.desertprincesscc.com/event/waffle-club-special/2029-09-24/
END:VEVENT
BEGIN:VEVENT
DTSTART;TZID=America/Los_Angeles:20290925T110000
DTEND;TZID=America/Los_Angeles:20290925T170000
DTSTAMP:20260421T183221
CREATED:20260402T211136Z
LAST-MODIFIED:20260402T211136Z
UID:10000481-1885028400-1885050000@www.desertprincesscc.com
SUMMARY:Taco Tuesday At The Mountain View Grille
DESCRIPTION:Turn your Tuesday into a fiesta at the Mountain View Grille with our flavorful Taco Tuesday celebration. Enjoy a delicious lineup of freshly prepared tacos\, featuring a variety of savory fillings—from perfectly seasoned carne asada and tender grilled chicken to fresh fish
URL:https://www.desertprincesscc.com/event/taco-tuesday-at-the-mountain-view-grille/2029-09-25/
END:VEVENT
BEGIN:VEVENT
DTSTART;TZID=America/Los_Angeles:20291001T080000
DTEND;TZID=America/Los_Angeles:20291001T120000
DTSTAMP:20260421T183221
CREATED:20260402T193530Z
LAST-MODIFIED:20260402T193530Z
UID:10000221-1885536000-1885550400@www.desertprincesscc.com
SUMMARY:Waffle Club Special
DESCRIPTION:Start your week on a sweet note with our Monday Waffle Special at the Mountain View Grille. Indulge in golden\, house-made Belgian waffles\, perfectly crisp on the outside and light and fluffy on the inside\, served warm with rich maple syrup and whipped butter.
URL:https://www.desertprincesscc.com/event/waffle-club-special/2029-10-01/
END:VEVENT
BEGIN:VEVENT
DTSTART;TZID=America/Los_Angeles:20291002T110000
DTEND;TZID=America/Los_Angeles:20291002T170000
DTSTAMP:20260421T183221
CREATED:20260402T211136Z
LAST-MODIFIED:20260402T211136Z
UID:10000482-1885633200-1885654800@www.desertprincesscc.com
SUMMARY:Taco Tuesday At The Mountain View Grille
DESCRIPTION:Turn your Tuesday into a fiesta at the Mountain View Grille with our flavorful Taco Tuesday celebration. Enjoy a delicious lineup of freshly prepared tacos\, featuring a variety of savory fillings—from perfectly seasoned carne asada and tender grilled chicken to fresh fish
URL:https://www.desertprincesscc.com/event/taco-tuesday-at-the-mountain-view-grille/2029-10-02/
END:VEVENT
BEGIN:VEVENT
DTSTART;TZID=America/Los_Angeles:20291008T080000
DTEND;TZID=America/Los_Angeles:20291008T120000
DTSTAMP:20260421T183221
CREATED:20260402T193530Z
LAST-MODIFIED:20260402T193530Z
UID:10000222-1886140800-1886155200@www.desertprincesscc.com
SUMMARY:Waffle Club Special
DESCRIPTION:Start your week on a sweet note with our Monday Waffle Special at the Mountain View Grille. Indulge in golden\, house-made Belgian waffles\, perfectly crisp on the outside and light and fluffy on the inside\, served warm with rich maple syrup and whipped butter.
URL:https://www.desertprincesscc.com/event/waffle-club-special/2029-10-08/
END:VEVENT
BEGIN:VEVENT
DTSTART;TZID=America/Los_Angeles:20291009T110000
DTEND;TZID=America/Los_Angeles:20291009T170000
DTSTAMP:20260421T183221
CREATED:20260402T211136Z
LAST-MODIFIED:20260402T211136Z
UID:10000483-1886238000-1886259600@www.desertprincesscc.com
SUMMARY:Taco Tuesday At The Mountain View Grille
DESCRIPTION:Turn your Tuesday into a fiesta at the Mountain View Grille with our flavorful Taco Tuesday celebration. Enjoy a delicious lineup of freshly prepared tacos\, featuring a variety of savory fillings—from perfectly seasoned carne asada and tender grilled chicken to fresh fish
URL:https://www.desertprincesscc.com/event/taco-tuesday-at-the-mountain-view-grille/2029-10-09/
END:VEVENT
BEGIN:VEVENT
DTSTART;TZID=America/Los_Angeles:20291015T080000
DTEND;TZID=America/Los_Angeles:20291015T120000
DTSTAMP:20260421T183221
CREATED:20260402T193530Z
LAST-MODIFIED:20260402T193530Z
UID:10000223-1886745600-1886760000@www.desertprincesscc.com
SUMMARY:Waffle Club Special
DESCRIPTION:Start your week on a sweet note with our Monday Waffle Special at the Mountain View Grille. Indulge in golden\, house-made Belgian waffles\, perfectly crisp on the outside and light and fluffy on the inside\, served warm with rich maple syrup and whipped butter.
URL:https://www.desertprincesscc.com/event/waffle-club-special/2029-10-15/
END:VEVENT
BEGIN:VEVENT
DTSTART;TZID=America/Los_Angeles:20291016T110000
DTEND;TZID=America/Los_Angeles:20291016T170000
DTSTAMP:20260421T183221
CREATED:20260402T211136Z
LAST-MODIFIED:20260402T211136Z
UID:10000484-1886842800-1886864400@www.desertprincesscc.com
SUMMARY:Taco Tuesday At The Mountain View Grille
DESCRIPTION:Turn your Tuesday into a fiesta at the Mountain View Grille with our flavorful Taco Tuesday celebration. Enjoy a delicious lineup of freshly prepared tacos\, featuring a variety of savory fillings—from perfectly seasoned carne asada and tender grilled chicken to fresh fish
URL:https://www.desertprincesscc.com/event/taco-tuesday-at-the-mountain-view-grille/2029-10-16/
END:VEVENT
BEGIN:VEVENT
DTSTART;TZID=America/Los_Angeles:20291022T080000
DTEND;TZID=America/Los_Angeles:20291022T120000
DTSTAMP:20260421T183221
CREATED:20260402T193530Z
LAST-MODIFIED:20260402T193530Z
UID:10000224-1887350400-1887364800@www.desertprincesscc.com
SUMMARY:Waffle Club Special
DESCRIPTION:Start your week on a sweet note with our Monday Waffle Special at the Mountain View Grille. Indulge in golden\, house-made Belgian waffles\, perfectly crisp on the outside and light and fluffy on the inside\, served warm with rich maple syrup and whipped butter.
URL:https://www.desertprincesscc.com/event/waffle-club-special/2029-10-22/
END:VEVENT
END:VCALENDAR