BEGIN:VCALENDAR
VERSION:2.0
PRODID:-//Desert Princess Country Club - ECPv6.15.18//NONSGML v1.0//EN
CALSCALE:GREGORIAN
METHOD:PUBLISH
X-WR-CALNAME:Desert Princess Country Club
X-ORIGINAL-URL:https://www.desertprincesscc.com
X-WR-CALDESC:Events for Desert Princess Country Club
REFRESH-INTERVAL;VALUE=DURATION:PT1H
X-Robots-Tag:noindex
X-PUBLISHED-TTL:PT1H
BEGIN:VTIMEZONE
TZID:America/Los_Angeles
BEGIN:DAYLIGHT
TZOFFSETFROM:-0800
TZOFFSETTO:-0700
TZNAME:PDT
DTSTART:20280312T100000
END:DAYLIGHT
BEGIN:STANDARD
TZOFFSETFROM:-0700
TZOFFSETTO:-0800
TZNAME:PST
DTSTART:20281105T090000
END:STANDARD
BEGIN:DAYLIGHT
TZOFFSETFROM:-0800
TZOFFSETTO:-0700
TZNAME:PDT
DTSTART:20290311T100000
END:DAYLIGHT
BEGIN:STANDARD
TZOFFSETFROM:-0700
TZOFFSETTO:-0800
TZNAME:PST
DTSTART:20291104T090000
END:STANDARD
BEGIN:DAYLIGHT
TZOFFSETFROM:-0800
TZOFFSETTO:-0700
TZNAME:PDT
DTSTART:20300310T100000
END:DAYLIGHT
BEGIN:STANDARD
TZOFFSETFROM:-0700
TZOFFSETTO:-0800
TZNAME:PST
DTSTART:20301103T090000
END:STANDARD
BEGIN:DAYLIGHT
TZOFFSETFROM:-0800
TZOFFSETTO:-0700
TZNAME:PDT
DTSTART:20310309T100000
END:DAYLIGHT
BEGIN:STANDARD
TZOFFSETFROM:-0700
TZOFFSETTO:-0800
TZNAME:PST
DTSTART:20311102T090000
END:STANDARD
END:VTIMEZONE
BEGIN:VEVENT
DTSTART;TZID=America/Los_Angeles:20291002T110000
DTEND;TZID=America/Los_Angeles:20291002T170000
DTSTAMP:20260421T211730
CREATED:20260402T211136Z
LAST-MODIFIED:20260402T211136Z
UID:10000482-1885633200-1885654800@www.desertprincesscc.com
SUMMARY:Taco Tuesday At The Mountain View Grille
DESCRIPTION:Turn your Tuesday into a fiesta at the Mountain View Grille with our flavorful Taco Tuesday celebration. Enjoy a delicious lineup of freshly prepared tacos\, featuring a variety of savory fillings—from perfectly seasoned carne asada and tender grilled chicken to fresh fish
URL:https://www.desertprincesscc.com/event/taco-tuesday-at-the-mountain-view-grille/2029-10-02/
END:VEVENT
BEGIN:VEVENT
DTSTART;TZID=America/Los_Angeles:20291008T080000
DTEND;TZID=America/Los_Angeles:20291008T120000
DTSTAMP:20260421T211730
CREATED:20260402T193530Z
LAST-MODIFIED:20260402T193530Z
UID:10000222-1886140800-1886155200@www.desertprincesscc.com
SUMMARY:Waffle Club Special
DESCRIPTION:Start your week on a sweet note with our Monday Waffle Special at the Mountain View Grille. Indulge in golden\, house-made Belgian waffles\, perfectly crisp on the outside and light and fluffy on the inside\, served warm with rich maple syrup and whipped butter.
URL:https://www.desertprincesscc.com/event/waffle-club-special/2029-10-08/
END:VEVENT
BEGIN:VEVENT
DTSTART;TZID=America/Los_Angeles:20291009T110000
DTEND;TZID=America/Los_Angeles:20291009T170000
DTSTAMP:20260421T211730
CREATED:20260402T211136Z
LAST-MODIFIED:20260402T211136Z
UID:10000483-1886238000-1886259600@www.desertprincesscc.com
SUMMARY:Taco Tuesday At The Mountain View Grille
DESCRIPTION:Turn your Tuesday into a fiesta at the Mountain View Grille with our flavorful Taco Tuesday celebration. Enjoy a delicious lineup of freshly prepared tacos\, featuring a variety of savory fillings—from perfectly seasoned carne asada and tender grilled chicken to fresh fish
URL:https://www.desertprincesscc.com/event/taco-tuesday-at-the-mountain-view-grille/2029-10-09/
END:VEVENT
BEGIN:VEVENT
DTSTART;TZID=America/Los_Angeles:20291015T080000
DTEND;TZID=America/Los_Angeles:20291015T120000
DTSTAMP:20260421T211730
CREATED:20260402T193530Z
LAST-MODIFIED:20260402T193530Z
UID:10000223-1886745600-1886760000@www.desertprincesscc.com
SUMMARY:Waffle Club Special
DESCRIPTION:Start your week on a sweet note with our Monday Waffle Special at the Mountain View Grille. Indulge in golden\, house-made Belgian waffles\, perfectly crisp on the outside and light and fluffy on the inside\, served warm with rich maple syrup and whipped butter.
URL:https://www.desertprincesscc.com/event/waffle-club-special/2029-10-15/
END:VEVENT
BEGIN:VEVENT
DTSTART;TZID=America/Los_Angeles:20291016T110000
DTEND;TZID=America/Los_Angeles:20291016T170000
DTSTAMP:20260421T211730
CREATED:20260402T211136Z
LAST-MODIFIED:20260402T211136Z
UID:10000484-1886842800-1886864400@www.desertprincesscc.com
SUMMARY:Taco Tuesday At The Mountain View Grille
DESCRIPTION:Turn your Tuesday into a fiesta at the Mountain View Grille with our flavorful Taco Tuesday celebration. Enjoy a delicious lineup of freshly prepared tacos\, featuring a variety of savory fillings—from perfectly seasoned carne asada and tender grilled chicken to fresh fish
URL:https://www.desertprincesscc.com/event/taco-tuesday-at-the-mountain-view-grille/2029-10-16/
END:VEVENT
BEGIN:VEVENT
DTSTART;TZID=America/Los_Angeles:20291022T080000
DTEND;TZID=America/Los_Angeles:20291022T120000
DTSTAMP:20260421T211730
CREATED:20260402T193530Z
LAST-MODIFIED:20260402T193530Z
UID:10000224-1887350400-1887364800@www.desertprincesscc.com
SUMMARY:Waffle Club Special
DESCRIPTION:Start your week on a sweet note with our Monday Waffle Special at the Mountain View Grille. Indulge in golden\, house-made Belgian waffles\, perfectly crisp on the outside and light and fluffy on the inside\, served warm with rich maple syrup and whipped butter.
URL:https://www.desertprincesscc.com/event/waffle-club-special/2029-10-22/
END:VEVENT
BEGIN:VEVENT
DTSTART;TZID=America/Los_Angeles:20291023T110000
DTEND;TZID=America/Los_Angeles:20291023T170000
DTSTAMP:20260421T211730
CREATED:20260402T211136Z
LAST-MODIFIED:20260402T211136Z
UID:10000485-1887447600-1887469200@www.desertprincesscc.com
SUMMARY:Taco Tuesday At The Mountain View Grille
DESCRIPTION:Turn your Tuesday into a fiesta at the Mountain View Grille with our flavorful Taco Tuesday celebration. Enjoy a delicious lineup of freshly prepared tacos\, featuring a variety of savory fillings—from perfectly seasoned carne asada and tender grilled chicken to fresh fish
URL:https://www.desertprincesscc.com/event/taco-tuesday-at-the-mountain-view-grille/2029-10-23/
END:VEVENT
BEGIN:VEVENT
DTSTART;TZID=America/Los_Angeles:20291029T080000
DTEND;TZID=America/Los_Angeles:20291029T120000
DTSTAMP:20260421T211730
CREATED:20260402T193530Z
LAST-MODIFIED:20260402T193530Z
UID:10000225-1887955200-1887969600@www.desertprincesscc.com
SUMMARY:Waffle Club Special
DESCRIPTION:Start your week on a sweet note with our Monday Waffle Special at the Mountain View Grille. Indulge in golden\, house-made Belgian waffles\, perfectly crisp on the outside and light and fluffy on the inside\, served warm with rich maple syrup and whipped butter.
URL:https://www.desertprincesscc.com/event/waffle-club-special/2029-10-29/
END:VEVENT
BEGIN:VEVENT
DTSTART;TZID=America/Los_Angeles:20291030T110000
DTEND;TZID=America/Los_Angeles:20291030T170000
DTSTAMP:20260421T211730
CREATED:20260402T211136Z
LAST-MODIFIED:20260402T211136Z
UID:10000486-1888052400-1888074000@www.desertprincesscc.com
SUMMARY:Taco Tuesday At The Mountain View Grille
DESCRIPTION:Turn your Tuesday into a fiesta at the Mountain View Grille with our flavorful Taco Tuesday celebration. Enjoy a delicious lineup of freshly prepared tacos\, featuring a variety of savory fillings—from perfectly seasoned carne asada and tender grilled chicken to fresh fish
URL:https://www.desertprincesscc.com/event/taco-tuesday-at-the-mountain-view-grille/2029-10-30/
END:VEVENT
BEGIN:VEVENT
DTSTART;TZID=America/Los_Angeles:20291105T080000
DTEND;TZID=America/Los_Angeles:20291105T120000
DTSTAMP:20260421T211730
CREATED:20260402T193530Z
LAST-MODIFIED:20260402T193530Z
UID:10000226-1888560000-1888574400@www.desertprincesscc.com
SUMMARY:Waffle Club Special
DESCRIPTION:Start your week on a sweet note with our Monday Waffle Special at the Mountain View Grille. Indulge in golden\, house-made Belgian waffles\, perfectly crisp on the outside and light and fluffy on the inside\, served warm with rich maple syrup and whipped butter.
URL:https://www.desertprincesscc.com/event/waffle-club-special/2029-11-05/
END:VEVENT
BEGIN:VEVENT
DTSTART;TZID=America/Los_Angeles:20291106T110000
DTEND;TZID=America/Los_Angeles:20291106T170000
DTSTAMP:20260421T211730
CREATED:20260402T211136Z
LAST-MODIFIED:20260402T211136Z
UID:10000487-1888657200-1888678800@www.desertprincesscc.com
SUMMARY:Taco Tuesday At The Mountain View Grille
DESCRIPTION:Turn your Tuesday into a fiesta at the Mountain View Grille with our flavorful Taco Tuesday celebration. Enjoy a delicious lineup of freshly prepared tacos\, featuring a variety of savory fillings—from perfectly seasoned carne asada and tender grilled chicken to fresh fish
URL:https://www.desertprincesscc.com/event/taco-tuesday-at-the-mountain-view-grille/2029-11-06/
END:VEVENT
BEGIN:VEVENT
DTSTART;TZID=America/Los_Angeles:20291112T080000
DTEND;TZID=America/Los_Angeles:20291112T120000
DTSTAMP:20260421T211730
CREATED:20260402T193530Z
LAST-MODIFIED:20260402T193530Z
UID:10000227-1889164800-1889179200@www.desertprincesscc.com
SUMMARY:Waffle Club Special
DESCRIPTION:Start your week on a sweet note with our Monday Waffle Special at the Mountain View Grille. Indulge in golden\, house-made Belgian waffles\, perfectly crisp on the outside and light and fluffy on the inside\, served warm with rich maple syrup and whipped butter.
URL:https://www.desertprincesscc.com/event/waffle-club-special/2029-11-12/
END:VEVENT
BEGIN:VEVENT
DTSTART;TZID=America/Los_Angeles:20291113T110000
DTEND;TZID=America/Los_Angeles:20291113T170000
DTSTAMP:20260421T211730
CREATED:20260402T211136Z
LAST-MODIFIED:20260402T211136Z
UID:10000488-1889262000-1889283600@www.desertprincesscc.com
SUMMARY:Taco Tuesday At The Mountain View Grille
DESCRIPTION:Turn your Tuesday into a fiesta at the Mountain View Grille with our flavorful Taco Tuesday celebration. Enjoy a delicious lineup of freshly prepared tacos\, featuring a variety of savory fillings—from perfectly seasoned carne asada and tender grilled chicken to fresh fish
URL:https://www.desertprincesscc.com/event/taco-tuesday-at-the-mountain-view-grille/2029-11-13/
END:VEVENT
BEGIN:VEVENT
DTSTART;TZID=America/Los_Angeles:20291119T080000
DTEND;TZID=America/Los_Angeles:20291119T120000
DTSTAMP:20260421T211730
CREATED:20260402T193530Z
LAST-MODIFIED:20260402T193530Z
UID:10000228-1889769600-1889784000@www.desertprincesscc.com
SUMMARY:Waffle Club Special
DESCRIPTION:Start your week on a sweet note with our Monday Waffle Special at the Mountain View Grille. Indulge in golden\, house-made Belgian waffles\, perfectly crisp on the outside and light and fluffy on the inside\, served warm with rich maple syrup and whipped butter.
URL:https://www.desertprincesscc.com/event/waffle-club-special/2029-11-19/
END:VEVENT
BEGIN:VEVENT
DTSTART;TZID=America/Los_Angeles:20291120T110000
DTEND;TZID=America/Los_Angeles:20291120T170000
DTSTAMP:20260421T211730
CREATED:20260402T211136Z
LAST-MODIFIED:20260402T211136Z
UID:10000489-1889866800-1889888400@www.desertprincesscc.com
SUMMARY:Taco Tuesday At The Mountain View Grille
DESCRIPTION:Turn your Tuesday into a fiesta at the Mountain View Grille with our flavorful Taco Tuesday celebration. Enjoy a delicious lineup of freshly prepared tacos\, featuring a variety of savory fillings—from perfectly seasoned carne asada and tender grilled chicken to fresh fish
URL:https://www.desertprincesscc.com/event/taco-tuesday-at-the-mountain-view-grille/2029-11-20/
END:VEVENT
BEGIN:VEVENT
DTSTART;TZID=America/Los_Angeles:20291126T080000
DTEND;TZID=America/Los_Angeles:20291126T120000
DTSTAMP:20260421T211730
CREATED:20260402T193530Z
LAST-MODIFIED:20260402T193530Z
UID:10000229-1890374400-1890388800@www.desertprincesscc.com
SUMMARY:Waffle Club Special
DESCRIPTION:Start your week on a sweet note with our Monday Waffle Special at the Mountain View Grille. Indulge in golden\, house-made Belgian waffles\, perfectly crisp on the outside and light and fluffy on the inside\, served warm with rich maple syrup and whipped butter.
URL:https://www.desertprincesscc.com/event/waffle-club-special/2029-11-26/
END:VEVENT
BEGIN:VEVENT
DTSTART;TZID=America/Los_Angeles:20291127T110000
DTEND;TZID=America/Los_Angeles:20291127T170000
DTSTAMP:20260421T211730
CREATED:20260402T211136Z
LAST-MODIFIED:20260402T211136Z
UID:10000490-1890471600-1890493200@www.desertprincesscc.com
SUMMARY:Taco Tuesday At The Mountain View Grille
DESCRIPTION:Turn your Tuesday into a fiesta at the Mountain View Grille with our flavorful Taco Tuesday celebration. Enjoy a delicious lineup of freshly prepared tacos\, featuring a variety of savory fillings—from perfectly seasoned carne asada and tender grilled chicken to fresh fish
URL:https://www.desertprincesscc.com/event/taco-tuesday-at-the-mountain-view-grille/2029-11-27/
END:VEVENT
BEGIN:VEVENT
DTSTART;TZID=America/Los_Angeles:20291203T080000
DTEND;TZID=America/Los_Angeles:20291203T120000
DTSTAMP:20260421T211730
CREATED:20260402T193530Z
LAST-MODIFIED:20260402T193530Z
UID:10000230-1890979200-1890993600@www.desertprincesscc.com
SUMMARY:Waffle Club Special
DESCRIPTION:Start your week on a sweet note with our Monday Waffle Special at the Mountain View Grille. Indulge in golden\, house-made Belgian waffles\, perfectly crisp on the outside and light and fluffy on the inside\, served warm with rich maple syrup and whipped butter.
URL:https://www.desertprincesscc.com/event/waffle-club-special/2029-12-03/
END:VEVENT
BEGIN:VEVENT
DTSTART;TZID=America/Los_Angeles:20291204T110000
DTEND;TZID=America/Los_Angeles:20291204T170000
DTSTAMP:20260421T211730
CREATED:20260402T211136Z
LAST-MODIFIED:20260402T211136Z
UID:10000491-1891076400-1891098000@www.desertprincesscc.com
SUMMARY:Taco Tuesday At The Mountain View Grille
DESCRIPTION:Turn your Tuesday into a fiesta at the Mountain View Grille with our flavorful Taco Tuesday celebration. Enjoy a delicious lineup of freshly prepared tacos\, featuring a variety of savory fillings—from perfectly seasoned carne asada and tender grilled chicken to fresh fish
URL:https://www.desertprincesscc.com/event/taco-tuesday-at-the-mountain-view-grille/2029-12-04/
END:VEVENT
BEGIN:VEVENT
DTSTART;TZID=America/Los_Angeles:20291210T080000
DTEND;TZID=America/Los_Angeles:20291210T120000
DTSTAMP:20260421T211730
CREATED:20260402T193530Z
LAST-MODIFIED:20260402T193530Z
UID:10000231-1891584000-1891598400@www.desertprincesscc.com
SUMMARY:Waffle Club Special
DESCRIPTION:Start your week on a sweet note with our Monday Waffle Special at the Mountain View Grille. Indulge in golden\, house-made Belgian waffles\, perfectly crisp on the outside and light and fluffy on the inside\, served warm with rich maple syrup and whipped butter.
URL:https://www.desertprincesscc.com/event/waffle-club-special/2029-12-10/
END:VEVENT
BEGIN:VEVENT
DTSTART;TZID=America/Los_Angeles:20291211T110000
DTEND;TZID=America/Los_Angeles:20291211T170000
DTSTAMP:20260421T211730
CREATED:20260402T211136Z
LAST-MODIFIED:20260402T211136Z
UID:10000492-1891681200-1891702800@www.desertprincesscc.com
SUMMARY:Taco Tuesday At The Mountain View Grille
DESCRIPTION:Turn your Tuesday into a fiesta at the Mountain View Grille with our flavorful Taco Tuesday celebration. Enjoy a delicious lineup of freshly prepared tacos\, featuring a variety of savory fillings—from perfectly seasoned carne asada and tender grilled chicken to fresh fish
URL:https://www.desertprincesscc.com/event/taco-tuesday-at-the-mountain-view-grille/2029-12-11/
END:VEVENT
BEGIN:VEVENT
DTSTART;TZID=America/Los_Angeles:20291217T080000
DTEND;TZID=America/Los_Angeles:20291217T120000
DTSTAMP:20260421T211730
CREATED:20260402T193530Z
LAST-MODIFIED:20260402T193530Z
UID:10000232-1892188800-1892203200@www.desertprincesscc.com
SUMMARY:Waffle Club Special
DESCRIPTION:Start your week on a sweet note with our Monday Waffle Special at the Mountain View Grille. Indulge in golden\, house-made Belgian waffles\, perfectly crisp on the outside and light and fluffy on the inside\, served warm with rich maple syrup and whipped butter.
URL:https://www.desertprincesscc.com/event/waffle-club-special/2029-12-17/
END:VEVENT
BEGIN:VEVENT
DTSTART;TZID=America/Los_Angeles:20291218T110000
DTEND;TZID=America/Los_Angeles:20291218T170000
DTSTAMP:20260421T211730
CREATED:20260402T211136Z
LAST-MODIFIED:20260402T211136Z
UID:10000493-1892286000-1892307600@www.desertprincesscc.com
SUMMARY:Taco Tuesday At The Mountain View Grille
DESCRIPTION:Turn your Tuesday into a fiesta at the Mountain View Grille with our flavorful Taco Tuesday celebration. Enjoy a delicious lineup of freshly prepared tacos\, featuring a variety of savory fillings—from perfectly seasoned carne asada and tender grilled chicken to fresh fish
URL:https://www.desertprincesscc.com/event/taco-tuesday-at-the-mountain-view-grille/2029-12-18/
END:VEVENT
BEGIN:VEVENT
DTSTART;TZID=America/Los_Angeles:20291224T080000
DTEND;TZID=America/Los_Angeles:20291224T120000
DTSTAMP:20260421T211730
CREATED:20260402T193530Z
LAST-MODIFIED:20260402T193530Z
UID:10000233-1892793600-1892808000@www.desertprincesscc.com
SUMMARY:Waffle Club Special
DESCRIPTION:Start your week on a sweet note with our Monday Waffle Special at the Mountain View Grille. Indulge in golden\, house-made Belgian waffles\, perfectly crisp on the outside and light and fluffy on the inside\, served warm with rich maple syrup and whipped butter.
URL:https://www.desertprincesscc.com/event/waffle-club-special/2029-12-24/
END:VEVENT
BEGIN:VEVENT
DTSTART;TZID=America/Los_Angeles:20291225T110000
DTEND;TZID=America/Los_Angeles:20291225T170000
DTSTAMP:20260421T211730
CREATED:20260402T211136Z
LAST-MODIFIED:20260402T211136Z
UID:10000494-1892890800-1892912400@www.desertprincesscc.com
SUMMARY:Taco Tuesday At The Mountain View Grille
DESCRIPTION:Turn your Tuesday into a fiesta at the Mountain View Grille with our flavorful Taco Tuesday celebration. Enjoy a delicious lineup of freshly prepared tacos\, featuring a variety of savory fillings—from perfectly seasoned carne asada and tender grilled chicken to fresh fish
URL:https://www.desertprincesscc.com/event/taco-tuesday-at-the-mountain-view-grille/2029-12-25/
END:VEVENT
BEGIN:VEVENT
DTSTART;TZID=America/Los_Angeles:20291231T080000
DTEND;TZID=America/Los_Angeles:20291231T120000
DTSTAMP:20260421T211730
CREATED:20260402T193530Z
LAST-MODIFIED:20260402T193530Z
UID:10000234-1893398400-1893412800@www.desertprincesscc.com
SUMMARY:Waffle Club Special
DESCRIPTION:Start your week on a sweet note with our Monday Waffle Special at the Mountain View Grille. Indulge in golden\, house-made Belgian waffles\, perfectly crisp on the outside and light and fluffy on the inside\, served warm with rich maple syrup and whipped butter.
URL:https://www.desertprincesscc.com/event/waffle-club-special/2029-12-31/
END:VEVENT
BEGIN:VEVENT
DTSTART;TZID=America/Los_Angeles:20300101T110000
DTEND;TZID=America/Los_Angeles:20300101T170000
DTSTAMP:20260421T211730
CREATED:20260402T211136Z
LAST-MODIFIED:20260402T211136Z
UID:10000495-1893495600-1893517200@www.desertprincesscc.com
SUMMARY:Taco Tuesday At The Mountain View Grille
DESCRIPTION:Turn your Tuesday into a fiesta at the Mountain View Grille with our flavorful Taco Tuesday celebration. Enjoy a delicious lineup of freshly prepared tacos\, featuring a variety of savory fillings—from perfectly seasoned carne asada and tender grilled chicken to fresh fish
URL:https://www.desertprincesscc.com/event/taco-tuesday-at-the-mountain-view-grille/2030-01-01/
END:VEVENT
BEGIN:VEVENT
DTSTART;TZID=America/Los_Angeles:20300107T080000
DTEND;TZID=America/Los_Angeles:20300107T120000
DTSTAMP:20260421T211730
CREATED:20260402T193530Z
LAST-MODIFIED:20260402T193530Z
UID:10000235-1894003200-1894017600@www.desertprincesscc.com
SUMMARY:Waffle Club Special
DESCRIPTION:Start your week on a sweet note with our Monday Waffle Special at the Mountain View Grille. Indulge in golden\, house-made Belgian waffles\, perfectly crisp on the outside and light and fluffy on the inside\, served warm with rich maple syrup and whipped butter.
URL:https://www.desertprincesscc.com/event/waffle-club-special/2030-01-07/
END:VEVENT
BEGIN:VEVENT
DTSTART;TZID=America/Los_Angeles:20300108T110000
DTEND;TZID=America/Los_Angeles:20300108T170000
DTSTAMP:20260421T211730
CREATED:20260402T211136Z
LAST-MODIFIED:20260402T211136Z
UID:10000496-1894100400-1894122000@www.desertprincesscc.com
SUMMARY:Taco Tuesday At The Mountain View Grille
DESCRIPTION:Turn your Tuesday into a fiesta at the Mountain View Grille with our flavorful Taco Tuesday celebration. Enjoy a delicious lineup of freshly prepared tacos\, featuring a variety of savory fillings—from perfectly seasoned carne asada and tender grilled chicken to fresh fish
URL:https://www.desertprincesscc.com/event/taco-tuesday-at-the-mountain-view-grille/2030-01-08/
END:VEVENT
BEGIN:VEVENT
DTSTART;TZID=America/Los_Angeles:20300114T080000
DTEND;TZID=America/Los_Angeles:20300114T120000
DTSTAMP:20260421T211730
CREATED:20260402T193530Z
LAST-MODIFIED:20260402T193530Z
UID:10000236-1894608000-1894622400@www.desertprincesscc.com
SUMMARY:Waffle Club Special
DESCRIPTION:Start your week on a sweet note with our Monday Waffle Special at the Mountain View Grille. Indulge in golden\, house-made Belgian waffles\, perfectly crisp on the outside and light and fluffy on the inside\, served warm with rich maple syrup and whipped butter.
URL:https://www.desertprincesscc.com/event/waffle-club-special/2030-01-14/
END:VEVENT
END:VCALENDAR