BEGIN:VCALENDAR
VERSION:2.0
PRODID:-//Desert Princess Country Club - ECPv6.15.18//NONSGML v1.0//EN
CALSCALE:GREGORIAN
METHOD:PUBLISH
X-ORIGINAL-URL:https://www.desertprincesscc.com
X-WR-CALDESC:Events for Desert Princess Country Club
REFRESH-INTERVAL;VALUE=DURATION:PT1H
X-Robots-Tag:noindex
X-PUBLISHED-TTL:PT1H
BEGIN:VTIMEZONE
TZID:America/Los_Angeles
BEGIN:DAYLIGHT
TZOFFSETFROM:-0800
TZOFFSETTO:-0700
TZNAME:PDT
DTSTART:20300310T100000
END:DAYLIGHT
BEGIN:STANDARD
TZOFFSETFROM:-0700
TZOFFSETTO:-0800
TZNAME:PST
DTSTART:20301103T090000
END:STANDARD
BEGIN:DAYLIGHT
TZOFFSETFROM:-0800
TZOFFSETTO:-0700
TZNAME:PDT
DTSTART:20310309T100000
END:DAYLIGHT
BEGIN:STANDARD
TZOFFSETFROM:-0700
TZOFFSETTO:-0800
TZNAME:PST
DTSTART:20311102T090000
END:STANDARD
BEGIN:DAYLIGHT
TZOFFSETFROM:-0800
TZOFFSETTO:-0700
TZNAME:PDT
DTSTART:20320314T100000
END:DAYLIGHT
BEGIN:STANDARD
TZOFFSETFROM:-0700
TZOFFSETTO:-0800
TZNAME:PST
DTSTART:20321107T090000
END:STANDARD
END:VTIMEZONE
BEGIN:VEVENT
DTSTART;TZID=America/Los_Angeles:20310331T080000
DTEND;TZID=America/Los_Angeles:20310331T120000
DTSTAMP:20260425T074737
CREATED:20260402T193530Z
LAST-MODIFIED:20260402T193530Z
UID:10000299-1932710400-1932724800@www.desertprincesscc.com
SUMMARY:Waffle Club Special
DESCRIPTION:Start your week on a sweet note with our Monday Waffle Special at the Mountain View Grille. Indulge in golden\, house-made Belgian waffles\, perfectly crisp on the outside and light and fluffy on the inside\, served warm with rich maple syrup and whipped butter.
URL:https://www.desertprincesscc.com/event/waffle-club-special/2031-03-31/
END:VEVENT
BEGIN:VEVENT
DTSTART;TZID=America/Los_Angeles:20310401T110000
DTEND;TZID=America/Los_Angeles:20310401T170000
DTSTAMP:20260425T074737
CREATED:20260402T211136Z
LAST-MODIFIED:20260402T211136Z
UID:10000560-1932807600-1932829200@www.desertprincesscc.com
SUMMARY:Taco Tuesday At The Mountain View Grille
DESCRIPTION:Turn your Tuesday into a fiesta at the Mountain View Grille with our flavorful Taco Tuesday celebration. Enjoy a delicious lineup of freshly prepared tacos\, featuring a variety of savory fillings—from perfectly seasoned carne asada and tender grilled chicken to fresh fish
URL:https://www.desertprincesscc.com/event/taco-tuesday-at-the-mountain-view-grille/2031-04-01/
END:VEVENT
END:VCALENDAR