BEGIN:VCALENDAR
VERSION:2.0
PRODID:-//Desert Princess Country Club - ECPv6.15.18//NONSGML v1.0//EN
CALSCALE:GREGORIAN
METHOD:PUBLISH
X-WR-CALNAME:Desert Princess Country Club
X-ORIGINAL-URL:https://www.desertprincesscc.com
X-WR-CALDESC:Events for Desert Princess Country Club
REFRESH-INTERVAL;VALUE=DURATION:PT1H
X-Robots-Tag:noindex
X-PUBLISHED-TTL:PT1H
BEGIN:VTIMEZONE
TZID:America/Los_Angeles
BEGIN:DAYLIGHT
TZOFFSETFROM:-0800
TZOFFSETTO:-0700
TZNAME:PDT
DTSTART:20240310T100000
END:DAYLIGHT
BEGIN:STANDARD
TZOFFSETFROM:-0700
TZOFFSETTO:-0800
TZNAME:PST
DTSTART:20241103T090000
END:STANDARD
BEGIN:DAYLIGHT
TZOFFSETFROM:-0800
TZOFFSETTO:-0700
TZNAME:PDT
DTSTART:20250309T100000
END:DAYLIGHT
BEGIN:STANDARD
TZOFFSETFROM:-0700
TZOFFSETTO:-0800
TZNAME:PST
DTSTART:20251102T090000
END:STANDARD
BEGIN:DAYLIGHT
TZOFFSETFROM:-0800
TZOFFSETTO:-0700
TZNAME:PDT
DTSTART:20260308T100000
END:DAYLIGHT
BEGIN:STANDARD
TZOFFSETFROM:-0700
TZOFFSETTO:-0800
TZNAME:PST
DTSTART:20261101T090000
END:STANDARD
END:VTIMEZONE
BEGIN:VEVENT
DTSTART;TZID=America/Los_Angeles:20251203T170000
DTEND;TZID=America/Los_Angeles:20251203T200000
DTSTAMP:20260422T031314
CREATED:20251203T220017Z
LAST-MODIFIED:20251203T223145Z
UID:10000016-1764781200-1764792000@www.desertprincesscc.com
SUMMARY:Cuban International Night - Mountain View Grille at The Desert Princess
DESCRIPTION:Get ready for a night of flavor and fun at Cuban Night at the Mountain View Grille! Enjoy delicious Cuban-inspired dishes\, and a lively atmosphere that transports you straight to the island. Bring your friends and family for an evening full of great food\, good vibes\, and unforgettable moments. Make sure to wear your Cuban attire for $5 off your bill.
URL:https://www.desertprincesscc.com/event/cuban-international-night-mountain-view-grille-at-the-desert-princess/
END:VEVENT
BEGIN:VEVENT
DTSTART;TZID=America/Los_Angeles:20251207T110000
DTEND;TZID=America/Los_Angeles:20251207T140000
DTSTAMP:20260422T031314
CREATED:20251205T011922Z
LAST-MODIFIED:20251205T011922Z
UID:10000017-1765105200-1765116000@www.desertprincesscc.com
SUMMARY:Wilson Creek Wine Tasting - Mountain View Grille
DESCRIPTION:  \nJoin us for a warm and inviting afternoon at the Mountain View Grille as we showcase an exclusive selection of wines from Wilson Creek Winery. Enjoy a curated tasting experience featuring some of their most celebrated varietals—each chosen to highlight the signature character and craftsmanship the winery is known for.
URL:https://www.desertprincesscc.com/event/wilson-creek-wine-tasting-mountain-view-grille/
END:VEVENT
BEGIN:VEVENT
DTSTART;TZID=America/Los_Angeles:20251210T140000
DTEND;TZID=America/Los_Angeles:20251210T193000
DTSTAMP:20260422T031314
CREATED:20251208T205220Z
LAST-MODIFIED:20251208T205220Z
UID:10000019-1765375200-1765395000@www.desertprincesscc.com
SUMMARY:9 and Dine Dinner
DESCRIPTION:Whether you’re playing with friends\, meeting new members\, or simply looking for a great night out\, this event combines the best of golf\, dining\, and community. We look forward to hosting you for an day of fun\, friendly competition\, and outstanding hospitality.
URL:https://www.desertprincesscc.com/event/9-and-dine-dinner/
END:VEVENT
BEGIN:VEVENT
DTSTART;TZID=America/Los_Angeles:20251213T170000
DTEND;TZID=America/Los_Angeles:20251213T193000
DTSTAMP:20260422T031314
CREATED:20251205T235838Z
LAST-MODIFIED:20251205T235838Z
UID:10000018-1765645200-1765654200@www.desertprincesscc.com
SUMMARY:Open Mic Night - Mountain View Grille
DESCRIPTION:Join us for an engaging and entertaining evening at the Mountain View Grille as we host our monthly Open Mic Night. \n 
URL:https://www.desertprincesscc.com/event/open-mic-night-mountain-view-grille/
END:VEVENT
BEGIN:VEVENT
DTSTART;TZID=America/Los_Angeles:20251217T170000
DTEND;TZID=America/Los_Angeles:20251217T193000
DTSTAMP:20260422T031314
CREATED:20251208T230749Z
LAST-MODIFIED:20251208T230749Z
UID:10000020-1765990800-1765999800@www.desertprincesscc.com
SUMMARY:Bingo Night At The Mountain View Grille
DESCRIPTION:  \nJoin us for an entertaining evening at the Mountain View Grille as we host our monthly Bingo Night! Enjoy great company\, exciting prizes\, and a relaxed atmosphere perfect for friends\, neighbors\, and families. Gather for a fun-filled night of friendly competition\, delicious food\, and refreshing drinks. Whether you’re a seasoned player or new to the game\, everyone is welcome to join in on the excitement. We look forward to seeing you there!
URL:https://www.desertprincesscc.com/event/bingo-night-at-the-mountain-view-grille/
END:VEVENT
BEGIN:VEVENT
DTSTART;TZID=America/Los_Angeles:20251220T170000
DTEND;TZID=America/Los_Angeles:20251220T200000
DTSTAMP:20260422T031314
CREATED:20251209T012035Z
LAST-MODIFIED:20251209T012035Z
UID:10000021-1766250000-1766260800@www.desertprincesscc.com
SUMMARY:Prime Rib Night - Mountain View Grille
DESCRIPTION:  \nIndulge in a classic dining experience during Prime Rib Night at the Mountain View Grille. Enjoy a perfectly seasoned\, slow-roasted prime rib served with traditional accompaniments and crafted with exceptional care by our culinary team. Join us for an evening of warm hospitality\, elevated comfort dining\, and the signature flavors that make the Mountain View Grille a favorite destination. Treat yourself to a memorable night of great food and great company.
URL:https://www.desertprincesscc.com/event/prime-rib-night-mountain-view-grille/
END:VEVENT
BEGIN:VEVENT
DTSTART;TZID=America/Los_Angeles:20251223T170000
DTEND;TZID=America/Los_Angeles:20251223T200000
DTSTAMP:20260422T031314
CREATED:20251209T171409Z
LAST-MODIFIED:20251209T171409Z
UID:10000022-1766509200-1766520000@www.desertprincesscc.com
SUMMARY:Live Action Past Station - Mountain View Grille
DESCRIPTION:  \nTreat yourself to a fun and flavorful evening with our Live Action Pasta Station\, where your perfect pasta dish is made just for you. Choose from fresh pastas\, colorful vegetables\, rich house-made sauces\, and premium toppings—then watch as our chef brings it all together with sizzling\, made-to-order perfection. \nIt’s a welcoming\, interactive dining experience that’s all about great food\, great company\, and the signature hospitality of The Mountain View Grille.
URL:https://www.desertprincesscc.com/event/live-action-past-station-mountain-view-grille/
END:VEVENT
BEGIN:VEVENT
DTSTART;TZID=America/Los_Angeles:20251231T170000
DTEND;TZID=America/Los_Angeles:20251231T220000
DTSTAMP:20260422T031314
CREATED:20251209T173924Z
LAST-MODIFIED:20251209T173924Z
UID:10000023-1767200400-1767218400@www.desertprincesscc.com
SUMMARY:New Years Eve Black & White Ball - Mountain View Grille
DESCRIPTION:Enjoy a thoughtfully prepared dinner\, festive drinks\, and wonderful music as you gather in your favorite black and white attire. Together\, we’ll share in the excitement of the countdown and raise a toast to new beginnings\, bright moments\, and the year ahead. \nWe look forward to celebrating with you at The Mountain View Grille
URL:https://www.desertprincesscc.com/event/new-years-eve-black-white-ball-mountain-view-grille/
END:VEVENT
END:VCALENDAR