BEGIN:VCALENDAR
VERSION:2.0
PRODID:-//Desert Princess Country Club - ECPv6.15.18//NONSGML v1.0//EN
CALSCALE:GREGORIAN
METHOD:PUBLISH
X-WR-CALNAME:Desert Princess Country Club
X-ORIGINAL-URL:https://www.desertprincesscc.com
X-WR-CALDESC:Events for Desert Princess Country Club
REFRESH-INTERVAL;VALUE=DURATION:PT1H
X-Robots-Tag:noindex
X-PUBLISHED-TTL:PT1H
BEGIN:VTIMEZONE
TZID:America/Los_Angeles
BEGIN:DAYLIGHT
TZOFFSETFROM:-0800
TZOFFSETTO:-0700
TZNAME:PDT
DTSTART:20250309T100000
END:DAYLIGHT
BEGIN:STANDARD
TZOFFSETFROM:-0700
TZOFFSETTO:-0800
TZNAME:PST
DTSTART:20251102T090000
END:STANDARD
BEGIN:DAYLIGHT
TZOFFSETFROM:-0800
TZOFFSETTO:-0700
TZNAME:PDT
DTSTART:20260308T100000
END:DAYLIGHT
BEGIN:STANDARD
TZOFFSETFROM:-0700
TZOFFSETTO:-0800
TZNAME:PST
DTSTART:20261101T090000
END:STANDARD
BEGIN:DAYLIGHT
TZOFFSETFROM:-0800
TZOFFSETTO:-0700
TZNAME:PDT
DTSTART:20270314T100000
END:DAYLIGHT
BEGIN:STANDARD
TZOFFSETFROM:-0700
TZOFFSETTO:-0800
TZNAME:PST
DTSTART:20271107T090000
END:STANDARD
END:VTIMEZONE
BEGIN:VEVENT
DTSTART;TZID=America/Los_Angeles:20260901T110000
DTEND;TZID=America/Los_Angeles:20260901T170000
DTSTAMP:20260423T023728
CREATED:20260402T211136Z
LAST-MODIFIED:20260402T211136Z
UID:10000321-1788260400-1788282000@www.desertprincesscc.com
SUMMARY:Taco Tuesday At The Mountain View Grille
DESCRIPTION:Turn your Tuesday into a fiesta at the Mountain View Grille with our flavorful Taco Tuesday celebration. Enjoy a delicious lineup of freshly prepared tacos\, featuring a variety of savory fillings—from perfectly seasoned carne asada and tender grilled chicken to fresh fish
URL:https://www.desertprincesscc.com/event/taco-tuesday-at-the-mountain-view-grille/2026-09-01/
END:VEVENT
BEGIN:VEVENT
DTSTART;TZID=America/Los_Angeles:20260907T080000
DTEND;TZID=America/Los_Angeles:20260907T120000
DTSTAMP:20260423T023728
CREATED:20260402T193530Z
LAST-MODIFIED:20260402T193530Z
UID:10000061-1788768000-1788782400@www.desertprincesscc.com
SUMMARY:Waffle Club Special
DESCRIPTION:Start your week on a sweet note with our Monday Waffle Special at the Mountain View Grille. Indulge in golden\, house-made Belgian waffles\, perfectly crisp on the outside and light and fluffy on the inside\, served warm with rich maple syrup and whipped butter.
URL:https://www.desertprincesscc.com/event/waffle-club-special/2026-09-07/
END:VEVENT
BEGIN:VEVENT
DTSTART;TZID=America/Los_Angeles:20260908T110000
DTEND;TZID=America/Los_Angeles:20260908T170000
DTSTAMP:20260423T023728
CREATED:20260402T211136Z
LAST-MODIFIED:20260402T211136Z
UID:10000322-1788865200-1788886800@www.desertprincesscc.com
SUMMARY:Taco Tuesday At The Mountain View Grille
DESCRIPTION:Turn your Tuesday into a fiesta at the Mountain View Grille with our flavorful Taco Tuesday celebration. Enjoy a delicious lineup of freshly prepared tacos\, featuring a variety of savory fillings—from perfectly seasoned carne asada and tender grilled chicken to fresh fish
URL:https://www.desertprincesscc.com/event/taco-tuesday-at-the-mountain-view-grille/2026-09-08/
END:VEVENT
BEGIN:VEVENT
DTSTART;TZID=America/Los_Angeles:20260914T080000
DTEND;TZID=America/Los_Angeles:20260914T120000
DTSTAMP:20260423T023728
CREATED:20260402T193530Z
LAST-MODIFIED:20260402T193530Z
UID:10000062-1789372800-1789387200@www.desertprincesscc.com
SUMMARY:Waffle Club Special
DESCRIPTION:Start your week on a sweet note with our Monday Waffle Special at the Mountain View Grille. Indulge in golden\, house-made Belgian waffles\, perfectly crisp on the outside and light and fluffy on the inside\, served warm with rich maple syrup and whipped butter.
URL:https://www.desertprincesscc.com/event/waffle-club-special/2026-09-14/
END:VEVENT
BEGIN:VEVENT
DTSTART;TZID=America/Los_Angeles:20260915T110000
DTEND;TZID=America/Los_Angeles:20260915T170000
DTSTAMP:20260423T023728
CREATED:20260402T211136Z
LAST-MODIFIED:20260402T211136Z
UID:10000323-1789470000-1789491600@www.desertprincesscc.com
SUMMARY:Taco Tuesday At The Mountain View Grille
DESCRIPTION:Turn your Tuesday into a fiesta at the Mountain View Grille with our flavorful Taco Tuesday celebration. Enjoy a delicious lineup of freshly prepared tacos\, featuring a variety of savory fillings—from perfectly seasoned carne asada and tender grilled chicken to fresh fish
URL:https://www.desertprincesscc.com/event/taco-tuesday-at-the-mountain-view-grille/2026-09-15/
END:VEVENT
BEGIN:VEVENT
DTSTART;TZID=America/Los_Angeles:20260921T080000
DTEND;TZID=America/Los_Angeles:20260921T120000
DTSTAMP:20260423T023728
CREATED:20260402T193530Z
LAST-MODIFIED:20260402T193530Z
UID:10000063-1789977600-1789992000@www.desertprincesscc.com
SUMMARY:Waffle Club Special
DESCRIPTION:Start your week on a sweet note with our Monday Waffle Special at the Mountain View Grille. Indulge in golden\, house-made Belgian waffles\, perfectly crisp on the outside and light and fluffy on the inside\, served warm with rich maple syrup and whipped butter.
URL:https://www.desertprincesscc.com/event/waffle-club-special/2026-09-21/
END:VEVENT
BEGIN:VEVENT
DTSTART;TZID=America/Los_Angeles:20260922T110000
DTEND;TZID=America/Los_Angeles:20260922T170000
DTSTAMP:20260423T023728
CREATED:20260402T211136Z
LAST-MODIFIED:20260402T211136Z
UID:10000324-1790074800-1790096400@www.desertprincesscc.com
SUMMARY:Taco Tuesday At The Mountain View Grille
DESCRIPTION:Turn your Tuesday into a fiesta at the Mountain View Grille with our flavorful Taco Tuesday celebration. Enjoy a delicious lineup of freshly prepared tacos\, featuring a variety of savory fillings—from perfectly seasoned carne asada and tender grilled chicken to fresh fish
URL:https://www.desertprincesscc.com/event/taco-tuesday-at-the-mountain-view-grille/2026-09-22/
END:VEVENT
BEGIN:VEVENT
DTSTART;TZID=America/Los_Angeles:20260928T080000
DTEND;TZID=America/Los_Angeles:20260928T120000
DTSTAMP:20260423T023728
CREATED:20260402T193530Z
LAST-MODIFIED:20260402T193530Z
UID:10000064-1790582400-1790596800@www.desertprincesscc.com
SUMMARY:Waffle Club Special
DESCRIPTION:Start your week on a sweet note with our Monday Waffle Special at the Mountain View Grille. Indulge in golden\, house-made Belgian waffles\, perfectly crisp on the outside and light and fluffy on the inside\, served warm with rich maple syrup and whipped butter.
URL:https://www.desertprincesscc.com/event/waffle-club-special/2026-09-28/
END:VEVENT
BEGIN:VEVENT
DTSTART;TZID=America/Los_Angeles:20260929T110000
DTEND;TZID=America/Los_Angeles:20260929T170000
DTSTAMP:20260423T023728
CREATED:20260402T211136Z
LAST-MODIFIED:20260402T211136Z
UID:10000325-1790679600-1790701200@www.desertprincesscc.com
SUMMARY:Taco Tuesday At The Mountain View Grille
DESCRIPTION:Turn your Tuesday into a fiesta at the Mountain View Grille with our flavorful Taco Tuesday celebration. Enjoy a delicious lineup of freshly prepared tacos\, featuring a variety of savory fillings—from perfectly seasoned carne asada and tender grilled chicken to fresh fish
URL:https://www.desertprincesscc.com/event/taco-tuesday-at-the-mountain-view-grille/2026-09-29/
END:VEVENT
END:VCALENDAR